BEGIN:VCALENDAR
VERSION:2.0
PRODID:-//Te Runanga o te Whānau - ECPv6.15.18//NONSGML v1.0//EN
CALSCALE:GREGORIAN
METHOD:PUBLISH
X-WR-CALNAME:Te Runanga o te Whānau
X-ORIGINAL-URL:https://trotw.gooddigital.nz
X-WR-CALDESC:Events for Te Runanga o te Whānau
REFRESH-INTERVAL;VALUE=DURATION:PT1H
X-Robots-Tag:noindex
X-PUBLISHED-TTL:PT1H
BEGIN:VTIMEZONE
TZID:Pacific/Auckland
BEGIN:STANDARD
TZOFFSETFROM:+1300
TZOFFSETTO:+1200
TZNAME:NZST
DTSTART:20250405T140000
END:STANDARD
BEGIN:DAYLIGHT
TZOFFSETFROM:+1200
TZOFFSETTO:+1300
TZNAME:NZDT
DTSTART:20250927T140000
END:DAYLIGHT
BEGIN:STANDARD
TZOFFSETFROM:+1300
TZOFFSETTO:+1200
TZNAME:NZST
DTSTART:20260404T140000
END:STANDARD
BEGIN:DAYLIGHT
TZOFFSETFROM:+1200
TZOFFSETTO:+1300
TZNAME:NZDT
DTSTART:20260926T140000
END:DAYLIGHT
BEGIN:STANDARD
TZOFFSETFROM:+1300
TZOFFSETTO:+1200
TZNAME:NZST
DTSTART:20270403T140000
END:STANDARD
BEGIN:DAYLIGHT
TZOFFSETFROM:+1200
TZOFFSETTO:+1300
TZNAME:NZDT
DTSTART:20270925T140000
END:DAYLIGHT
END:VTIMEZONE
BEGIN:VEVENT
DTSTART;TZID=Pacific/Auckland:20260311T100000
DTEND;TZID=Pacific/Auckland:20260311T140000
DTSTAMP:20260420T005818
CREATED:20260310T210337Z
LAST-MODIFIED:20260310T210337Z
UID:215-1773223200-1773237600@trotw.gooddigital.nz
SUMMARY:Te Runanga o Te Whānau AGM
DESCRIPTION:Placeholder
URL:https://trotw.gooddigital.nz/hui-event/te-runanga-o-te-whanau-agm/
END:VEVENT
END:VCALENDAR